BEGIN:VCALENDAR
VERSION:2.0
PRODID:icalendar-ruby
CALSCALE:GREGORIAN
METHOD:PUBLISH
BEGIN:VEVENT
DTSTAMP:20260422T024911Z
UID:8-503229@calvarypennsauken.org
DTSTART:20261014T230000Z
DTEND:20261015T001500Z
CLASS:PUBLIC
CREATED:20260421T210644
DESCRIPTION:Join us for our Discipleship Mid-week service where we are stud
 ying the Book of ACTS together.\nThis Study is a "deep dive" into the Book
  of ACTS with interactive sessions taking place on Wednesday Evenings in t
 he Sanctuary.  Come learn about God's purpose for His Church!\nPrayer at 
 6:30pm followed by Service at 7:00pm.\nUnited Youth: 6th - 12th Grade\nKid
 s &amp\; Jr. Kids: 3 years old - 5th Grade
LAST-MODIFIED:20260421T210644
LOCATION:Calvary AG Pennsauken Sanctuary
SUMMARY:Calvary Discipleship Night
URL;VALUE=URI:https://calvarypennsauken.org/events/calvary-discipleship-nig
 ht/2026-10-14
ATTACH;FILENAME=Mid-Week-Service.jpg;FMTTYPE=image/jpeg:https://dq5pwpg1q8r
 u0.cloudfront.net/2025/10/06/20/11/13/013ed33e-64e0-4798-8c42-a5691e4af8c2
 /Mid-Week-Service.jpg
END:VEVENT
END:VCALENDAR
